BEGIN:VCALENDAR
VERSION:2.0
PRODID:-//Bridgehampton Child Care &amp; Recreation Center - ECPv6.15.20//NONSGML v1.0//EN
CALSCALE:GREGORIAN
METHOD:PUBLISH
X-WR-CALNAME:Bridgehampton Child Care &amp; Recreation Center
X-ORIGINAL-URL:https://bhccrc.org
X-WR-CALDESC:Events for Bridgehampton Child Care &amp; Recreation Center
REFRESH-INTERVAL;VALUE=DURATION:PT1H
X-Robots-Tag:noindex
X-PUBLISHED-TTL:PT1H
BEGIN:VTIMEZONE
TZID:America/New_York
BEGIN:DAYLIGHT
TZOFFSETFROM:-0500
TZOFFSETTO:-0400
TZNAME:EDT
DTSTART:20240310T070000
END:DAYLIGHT
BEGIN:STANDARD
TZOFFSETFROM:-0400
TZOFFSETTO:-0500
TZNAME:EST
DTSTART:20241103T060000
END:STANDARD
BEGIN:DAYLIGHT
TZOFFSETFROM:-0500
TZOFFSETTO:-0400
TZNAME:EDT
DTSTART:20250309T070000
END:DAYLIGHT
BEGIN:STANDARD
TZOFFSETFROM:-0400
TZOFFSETTO:-0500
TZNAME:EST
DTSTART:20251102T060000
END:STANDARD
BEGIN:DAYLIGHT
TZOFFSETFROM:-0500
TZOFFSETTO:-0400
TZNAME:EDT
DTSTART:20260308T070000
END:DAYLIGHT
BEGIN:STANDARD
TZOFFSETFROM:-0400
TZOFFSETTO:-0500
TZNAME:EST
DTSTART:20261101T060000
END:STANDARD
END:VTIMEZONE
BEGIN:VEVENT
DTSTART;TZID=America/New_York:20250717T183000
DTEND;TZID=America/New_York:20250717T203000
DTSTAMP:20260422T073059
CREATED:20250529T163604Z
LAST-MODIFIED:20250624T211311Z
UID:10000011-1752777000-1752784200@bhccrc.org
SUMMARY:Equality Matters in the Hamptons
DESCRIPTION:Equality Matters in the Hamptons: A Conversation with Joy-Ann Reid\nJoin us for a compelling discussion with Joy-Ann Reid is a New York Times best-selling author\, political commentator and analyst with 30-plus years in the media business. Most recently\, for five years\, she was the host of the two-time NAACP Award-winning and Emmy nominated nightly news analysis program\, “The ReidOut” on MSNBC. Presented as part of the “Equality Matters” series at Stony Brook Southampton\, this event invites students and community members to engage in meaningful dialogue around diversity\, inclusion\, and social change. \n			\n				Register Here
URL:https://bhccrc.org/events-calendar/equality-matters-in-the-hamptons/
LOCATION:Stony Brook Southampton\, 39 Tuckahoe Rd\, Southampton\, NY\, 11968\, United States
ATTACH;FMTTYPE=image/png:https://bhccrc.org/wp-content/uploads/2025/05/Joy.Reid_Event-Page.png
ORGANIZER;CN="Bridgehampton Child Care Recreational Center":MAILTO:info@bhccrc.org
END:VEVENT
END:VCALENDAR