BEGIN:VCALENDAR
VERSION:2.0
PRODID:-//Bridgehampton Child Care &amp; Recreation Center - ECPv6.15.17.1//NONSGML v1.0//EN
CALSCALE:GREGORIAN
METHOD:PUBLISH
X-WR-CALNAME:Bridgehampton Child Care &amp; Recreation Center
X-ORIGINAL-URL:https://bhccrc.org
X-WR-CALDESC:Events for Bridgehampton Child Care &amp; Recreation Center
REFRESH-INTERVAL;VALUE=DURATION:PT1H
X-Robots-Tag:noindex
X-PUBLISHED-TTL:PT1H
BEGIN:VTIMEZONE
TZID:America/New_York
BEGIN:DAYLIGHT
TZOFFSETFROM:-0500
TZOFFSETTO:-0400
TZNAME:EDT
DTSTART:20240310T070000
END:DAYLIGHT
BEGIN:STANDARD
TZOFFSETFROM:-0400
TZOFFSETTO:-0500
TZNAME:EST
DTSTART:20241103T060000
END:STANDARD
BEGIN:DAYLIGHT
TZOFFSETFROM:-0500
TZOFFSETTO:-0400
TZNAME:EDT
DTSTART:20250309T070000
END:DAYLIGHT
BEGIN:STANDARD
TZOFFSETFROM:-0400
TZOFFSETTO:-0500
TZNAME:EST
DTSTART:20251102T060000
END:STANDARD
BEGIN:DAYLIGHT
TZOFFSETFROM:-0500
TZOFFSETTO:-0400
TZNAME:EDT
DTSTART:20260308T070000
END:DAYLIGHT
BEGIN:STANDARD
TZOFFSETFROM:-0400
TZOFFSETTO:-0500
TZNAME:EST
DTSTART:20261101T060000
END:STANDARD
END:VTIMEZONE
BEGIN:VEVENT
DTSTART;TZID=America/New_York:20251206T180000
DTEND;TZID=America/New_York:20251206T200000
DTSTAMP:20260419T113247
CREATED:20251121T015339Z
LAST-MODIFIED:20251121T015630Z
UID:10000028-1765044000-1765051200@bhccrc.org
SUMMARY:Lighting of the Vines
DESCRIPTION:The season of sparkle\, warmth\, and giving is upon us — and with it comes one of the East End’s most enchanting holiday traditions: Lighting of the Vines at Wölffer Estate Vineyards. \nJoin us for an elegant evening as the vineyard is transformed by thousands of twinkling lights draped across the vines\, creating a breathtaking backdrop for celebration and connection. Guests will enjoy fine wine\, cozy fire pits\, live holiday music\, and the joy of coming together as a community. \nThis festive event supports the Bridgehampton Child Care & Recreational Center\, helping fund programs that uplift local children and families all year long. \n✨ A night of lights\, laughter\, and purpose — start the season in unforgettable style.
URL:https://bhccrc.org/events-calendar/lighting-of-the-vines-2025/
LOCATION:Wölffer Estate Vineyard\, 139 Sagg Rd\, Sagaponack\, NY\, 11962\, United States
ATTACH;FMTTYPE=image/png:https://bhccrc.org/wp-content/uploads/2025/11/4.png
ORGANIZER;CN="Bridgehampton Child Care Recreational Center":MAILTO:info@bhccrc.org
END:VEVENT
END:VCALENDAR