BEGIN:VCALENDAR
VERSION:2.0
PRODID:-//Bridgehampton Child Care &amp; Recreation Center - ECPv6.15.17.1//NONSGML v1.0//EN
CALSCALE:GREGORIAN
METHOD:PUBLISH
X-ORIGINAL-URL:https://bhccrc.org
X-WR-CALDESC:Events for Bridgehampton Child Care &amp; Recreation Center
REFRESH-INTERVAL;VALUE=DURATION:PT1H
X-Robots-Tag:noindex
X-PUBLISHED-TTL:PT1H
BEGIN:VTIMEZONE
TZID:America/New_York
BEGIN:DAYLIGHT
TZOFFSETFROM:-0500
TZOFFSETTO:-0400
TZNAME:EDT
DTSTART:20240310T070000
END:DAYLIGHT
BEGIN:STANDARD
TZOFFSETFROM:-0400
TZOFFSETTO:-0500
TZNAME:EST
DTSTART:20241103T060000
END:STANDARD
BEGIN:DAYLIGHT
TZOFFSETFROM:-0500
TZOFFSETTO:-0400
TZNAME:EDT
DTSTART:20250309T070000
END:DAYLIGHT
BEGIN:STANDARD
TZOFFSETFROM:-0400
TZOFFSETTO:-0500
TZNAME:EST
DTSTART:20251102T060000
END:STANDARD
BEGIN:DAYLIGHT
TZOFFSETFROM:-0500
TZOFFSETTO:-0400
TZNAME:EDT
DTSTART:20260308T070000
END:DAYLIGHT
BEGIN:STANDARD
TZOFFSETFROM:-0400
TZOFFSETTO:-0500
TZNAME:EST
DTSTART:20261101T060000
END:STANDARD
END:VTIMEZONE
BEGIN:VEVENT
DTSTART;TZID=America/New_York:20251215T120000
DTEND;TZID=America/New_York:20251219T180000
DTSTAMP:20260419T113600
CREATED:20251127T174203Z
LAST-MODIFIED:20251127T174929Z
UID:10000032-1765800000-1766167200@bhccrc.org
SUMMARY:Holiday Gift Wrapping
DESCRIPTION:The holiday season is a time for giving — and what better way to give than by helping wrap gifts for children in our community? \nWe’re calling on volunteers to lend their hands and hearts to our Holiday Gift Wrapping initiative. Your time and care will help make the season brighter for the children and families served by The Center. All supplies will be provided — just bring your cheer\, creativity\, and helping spirit! \nWhether you join for a day or a few hours\, your support will bring joy and hope to families this holiday season. No experience necessary — just a willingness to help and spread holiday cheer! \n Join us to wrap\, laugh\, and give back this December. \nFor more information or to sign up\, contact:Jenna Solis jenna@bhccrc.org |  631-537-0616 ext. 101
URL:https://bhccrc.org/events-calendar/holiday-gift-wrapping/2025-12-15/
LOCATION:Bridgehampton Child Care Recreational Center\, 551 Sag Harbor Tpke\, Bridgehampton\, NY\, 11932\, United States
ATTACH;FMTTYPE=image/png:https://bhccrc.org/wp-content/uploads/2025/11/6.png
ORGANIZER;CN="Bridgehampton Child Care Recreational Center":MAILTO:info@bhccrc.org
END:VEVENT
BEGIN:VEVENT
DTSTART;TZID=America/New_York:20251216T120000
DTEND;TZID=America/New_York:20251220T180000
DTSTAMP:20260419T113600
CREATED:20251127T174203Z
LAST-MODIFIED:20251127T174929Z
UID:10000033-1765886400-1766253600@bhccrc.org
SUMMARY:Holiday Gift Wrapping
DESCRIPTION:The holiday season is a time for giving — and what better way to give than by helping wrap gifts for children in our community? \nWe’re calling on volunteers to lend their hands and hearts to our Holiday Gift Wrapping initiative. Your time and care will help make the season brighter for the children and families served by The Center. All supplies will be provided — just bring your cheer\, creativity\, and helping spirit! \nWhether you join for a day or a few hours\, your support will bring joy and hope to families this holiday season. No experience necessary — just a willingness to help and spread holiday cheer! \n Join us to wrap\, laugh\, and give back this December. \nFor more information or to sign up\, contact:Jenna Solis jenna@bhccrc.org |  631-537-0616 ext. 101
URL:https://bhccrc.org/events-calendar/holiday-gift-wrapping/2025-12-16/
LOCATION:Bridgehampton Child Care Recreational Center\, 551 Sag Harbor Tpke\, Bridgehampton\, NY\, 11932\, United States
ATTACH;FMTTYPE=image/png:https://bhccrc.org/wp-content/uploads/2025/11/6.png
ORGANIZER;CN="Bridgehampton Child Care Recreational Center":MAILTO:info@bhccrc.org
END:VEVENT
BEGIN:VEVENT
DTSTART;TZID=America/New_York:20251217T120000
DTEND;TZID=America/New_York:20251221T180000
DTSTAMP:20260419T113600
CREATED:20251127T174203Z
LAST-MODIFIED:20251127T174929Z
UID:10000034-1765972800-1766340000@bhccrc.org
SUMMARY:Holiday Gift Wrapping
DESCRIPTION:The holiday season is a time for giving — and what better way to give than by helping wrap gifts for children in our community? \nWe’re calling on volunteers to lend their hands and hearts to our Holiday Gift Wrapping initiative. Your time and care will help make the season brighter for the children and families served by The Center. All supplies will be provided — just bring your cheer\, creativity\, and helping spirit! \nWhether you join for a day or a few hours\, your support will bring joy and hope to families this holiday season. No experience necessary — just a willingness to help and spread holiday cheer! \n Join us to wrap\, laugh\, and give back this December. \nFor more information or to sign up\, contact:Jenna Solis jenna@bhccrc.org |  631-537-0616 ext. 101
URL:https://bhccrc.org/events-calendar/holiday-gift-wrapping/2025-12-17/
LOCATION:Bridgehampton Child Care Recreational Center\, 551 Sag Harbor Tpke\, Bridgehampton\, NY\, 11932\, United States
ATTACH;FMTTYPE=image/png:https://bhccrc.org/wp-content/uploads/2025/11/6.png
ORGANIZER;CN="Bridgehampton Child Care Recreational Center":MAILTO:info@bhccrc.org
END:VEVENT
END:VCALENDAR